BEGIN:VCALENDAR
VERSION:2.0
PRODID:-//ChamberMaster//Event Calendar 2.0//EN
METHOD:PUBLISH
X-PUBLISHED-TTL:P3D
REFRESH-INTERVAL:P3D
CALSCALE:GREGORIAN
BEGIN:VEVENT
DTSTART:20250308T010000Z
DTEND:20250308T030000Z
X-MICROSOFT-CDO-ALLDAYEVENT:FALSE
SUMMARY:When Marian Sang
DESCRIPTION:Nashville Opera presents When Marian Sang\, a Celebration of the Life of Marian Anderson on Friday\, March 7 at 7 pm at the Clement Railroad Hotel Museum.  Admission is free.
X-ALT-DESC;FMTTYPE=text/html:Nashville Opera presents When Marian Sang\, a Celebration of the Life of Marian Anderson on Friday\, March 7 at 7 pm at the Clement Railroad Hotel Museum.&nbsp\; Admission is free.
LOCATION:Clement Railroad Hotel Museum 100 Frank Clement Place Dickson\, TN 37055
UID:e.2392.2862
SEQUENCE:3
DTSTAMP:20260422T223533Z
URL:https://business.dicksoncountychamber.com/events/details/when-marian-sang-2862
END:VEVENT

END:VCALENDAR
