BEGIN:VCALENDAR
VERSION:2.0
PRODID:-//ChamberMaster//Event Calendar 2.0//EN
METHOD:PUBLISH
X-PUBLISHED-TTL:P3D
REFRESH-INTERVAL:P3D
CALSCALE:GREGORIAN
BEGIN:VEVENT
DTSTART:20250101T020000Z
DTEND:20250101T063000Z
X-MICROSOFT-CDO-ALLDAYEVENT:FALSE
SUMMARY:VFW NYE Party!
DESCRIPTION:The event will feature appetizers/finger foods\, both alcoholic and non-alcoholic beverages and champagne at midnight. Live music will be provided by two bands   RoughMix (country) and Beginner's Luck (rock\, pop\, and dance).
X-ALT-DESC;FMTTYPE=text/html:The event will feature appetizers/finger foods\, both alcoholic and non-alcoholic beverages and champagne at midnight. Live music will be provided by two bands &ndash\; RoughMix (country) and Beginner&rsquo\;s Luck (rock\, pop\, and dance).
LOCATION:Dickson VFW Post 4641 215 Marshall Stuart Drive Dickson\, TN 37055
UID:e.2392.2838
SEQUENCE:3
DTSTAMP:20260420T101015Z
URL:https://business.dicksoncountychamber.com/events/details/vfw-nye-party-2838
END:VEVENT

END:VCALENDAR
