BEGIN:VCALENDAR
VERSION:2.0
PRODID:-//ChamberMaster//Event Calendar 2.0//EN
METHOD:PUBLISH
X-PUBLISHED-TTL:P3D
REFRESH-INTERVAL:P3D
CALSCALE:GREGORIAN
BEGIN:VEVENT
DTSTART:20160801T150000Z
DTEND:20160802T230000Z
X-MICROSOFT-CDO-ALLDAYEVENT:FALSE
SUMMARY:School Supply Give Away
DESCRIPTION:The Dickson County School Supply Program will be distributing school supplies to local students on August 1 & 2.  Students may obtain vouchers from their school on opening day or from the Board of Education office.  Donations may be made to this program at TriStar Bank or contact them at dicksoncossp@yahoo.com to arrange a drop off time for the supplies.
X-ALT-DESC;FMTTYPE=text/html:The Dickson County School Supply Program will be distributing school supplies to local students on August 1 &amp\; 2. &nbsp\;Students may obtain vouchers from their school on opening day or from the Board of Education office. &nbsp\;Donations may be made to this program at TriStar Bank or contact them at dicksoncossp@yahoo.com to arrange a drop off time for the supplies.
LOCATION:212 McLemore Street Dickson\, TN
UID:e.2392.27
SEQUENCE:3
DTSTAMP:20260421T082647Z
URL:https://business.dicksoncountychamber.com/events/details/school-supply-give-away-08-01-2016-27
END:VEVENT

END:VCALENDAR
