BEGIN:VCALENDAR
VERSION:2.0
PRODID:-//ChamberMaster//Event Calendar 2.0//EN
METHOD:PUBLISH
X-PUBLISHED-TTL:P3D
REFRESH-INTERVAL:P3D
CALSCALE:GREGORIAN
BEGIN:VEVENT
DTSTART:20260501T220000Z
DTEND:20260502T000000Z
X-MICROSOFT-CDO-ALLDAYEVENT:FALSE
SUMMARY:Old Timers' Day Cruise In
DESCRIPTION:Classic cars\, bluegrass\, and good food sounds like a perfect Friday night! ???? Join us for the Old Timers Day Cruise-In on May 1\, 5:00 7:00 pm on South Main St. ?? Live music: Barton's Creek Bluegrass Band ?? Food: Southern Smokehouse We'd love to see you there!
X-ALT-DESC;FMTTYPE=text/html:Classic cars\, bluegrass\, and good food&mdash\;sounds like a perfect Friday night! ???? Join us for the Old Timers Day Cruise-In on May 1\, 5:00&ndash\;7:00 pm on South Main St. ?? Live music: Barton&rsquo\;s Creek Bluegrass Band ?? Food: Southern Smokehouse We&rsquo\;d love to see you there!
LOCATION:S. Main St. Behind the War Memorial Building
UID:e.2392.3056
SEQUENCE:3
DTSTAMP:20260422T172929Z
URL:https://business.dicksoncountychamber.com/events/details/old-timers-day-cruise-in-3056
END:VEVENT

END:VCALENDAR
