BEGIN:VCALENDAR
VERSION:2.0
PRODID:-//ChamberMaster//Event Calendar 2.0//EN
METHOD:PUBLISH
X-PUBLISHED-TTL:P3D
REFRESH-INTERVAL:P3D
CALSCALE:GREGORIAN
BEGIN:VEVENT
DTSTART:20260502T140000Z
DTEND:20260502T210000Z
X-MICROSOFT-CDO-ALLDAYEVENT:FALSE
SUMMARY:Old Timers' Day
DESCRIPTION:Join us for the 67th Annual Old Timers Day a beloved Dickson tradition celebrating community\, connection\, and hometown pride.\n\nEnjoy a full day of festivities\, including the parade\, local vendors\, food\, and family-friendly fun. Whether you're coming to participate or just to take it all in\, there's something for everyone.\n\nWe can't wait to see you there!
X-ALT-DESC;FMTTYPE=text/html:<div class="xdj266r x14z9mp xat24cr x1lziwak x1vvkbs" style="margin-inline: 0px\; overflow-wrap: break-word\; margin-bottom: 0px\; margin-top: 0px\; font-family: &quot\;Segoe UI Historic&quot\;\, &quot\;Segoe UI&quot\;\, Helvetica\, Arial\, sans-serif\; color: rgb(8\, 8\, 9)\; font-size: 15px\; background-color: rgb(255\, 255\, 255)\;">Join us for the 67th Annual Old Timers Day&mdash\;a beloved Dickson tradition celebrating community\, connection\, and hometown pride.</div>\n\n<div class="x14z9mp xat24cr x1lziwak x1vvkbs xtlvy1s" style="margin-inline: 0px\; overflow-wrap: break-word\; margin-bottom: 0px\; margin-top: 0.5em\; font-family: &quot\;Segoe UI Historic&quot\;\, &quot\;Segoe UI&quot\;\, Helvetica\, Arial\, sans-serif\; color: rgb(8\, 8\, 9)\; font-size: 15px\; background-color: rgb(255\, 255\, 255)\;">Enjoy a full day of festivities\, including the parade\, local vendors\, food\, and family-friendly fun. Whether you&rsquo\;re coming to participate or just to take it all in\, there&rsquo\;s something for everyone.</div>\n\n<div class="x14z9mp xat24cr x1lziwak x1vvkbs xtlvy1s" style="margin-inline: 0px\; overflow-wrap: break-word\; margin-bottom: 0px\; margin-top: 0.5em\; font-family: &quot\;Segoe UI Historic&quot\;\, &quot\;Segoe UI&quot\;\, Helvetica\, Arial\, sans-serif\; color: rgb(8\, 8\, 9)\; font-size: 15px\; background-color: rgb(255\, 255\, 255)\;">We can&rsquo\;t wait to see you there!&nbsp\;</div>\n
LOCATION:
UID:e.2392.3057
SEQUENCE:3
DTSTAMP:20260422T190827Z
URL:https://business.dicksoncountychamber.com/events/details/old-timers-day-3057
END:VEVENT

END:VCALENDAR
