BEGIN:VCALENDAR
VERSION:2.0
PRODID:-//ChamberMaster//Event Calendar 2.0//EN
METHOD:PUBLISH
X-PUBLISHED-TTL:P3D
REFRESH-INTERVAL:P3D
CALSCALE:GREGORIAN
BEGIN:VEVENT
DTSTART:20240406T140000Z
DTEND:20240406T180000Z
X-MICROSOFT-CDO-ALLDAYEVENT:FALSE
SUMMARY:LoRita's Open Door Saturday Sale
DESCRIPTION:LoRita's Open Door Saturday Sale! All Women's Clothing 50% off!
X-ALT-DESC;FMTTYPE=text/html:LoRita&#39\;s Open Door Saturday Sale! All Women&#39\;s Clothing 50% off!
LOCATION:305 South Main Street Downtown Dickson Lower level of Care Net.
UID:e.2392.2730
SEQUENCE:3
DTSTAMP:20260419T175047Z
URL:https://business.dicksoncountychamber.com/events/details/lorita-s-open-door-saturday-sale-04-06-2024-2730
END:VEVENT

END:VCALENDAR
