BEGIN:VCALENDAR
VERSION:2.0
PRODID:-//ChamberMaster//Event Calendar 2.0//EN
METHOD:PUBLISH
X-PUBLISHED-TTL:P3D
REFRESH-INTERVAL:P3D
CALSCALE:GREGORIAN
BEGIN:VEVENT
DTSTART:20250127T190000Z
DTEND:20250127T210000Z
X-MICROSOFT-CDO-ALLDAYEVENT:FALSE
SUMMARY:Job Fair at AJC
DESCRIPTION:This is a multi-employer job fair that is open to the public. We still have space for a few more employers. If interested\, please contact Nicole Kropp @nkropp@edsi.com or 615.446.0229.
X-ALT-DESC;FMTTYPE=text/html:This is a multi-employer job fair that is open to the public. We still have space for a few more employers. If interested\, please contact Nicole Kropp @nkropp@edsi.com or 615.446.0229.
LOCATION:Dickson AJC 250 Beasley Drive Dickson\, TN 37055
UID:e.2392.2859
SEQUENCE:3
DTSTAMP:20260420T095428Z
URL:https://business.dicksoncountychamber.com/events/details/job-fair-at-ajc-01-27-2025-2859
END:VEVENT

END:VCALENDAR
