BEGIN:VCALENDAR
VERSION:2.0
PRODID:-//ChamberMaster//Event Calendar 2.0//EN
METHOD:PUBLISH
X-PUBLISHED-TTL:P3D
REFRESH-INTERVAL:P3D
CALSCALE:GREGORIAN
BEGIN:VEVENT
DTSTART:20260723T130000Z
DTEND:20260723T140000Z
X-MICROSOFT-CDO-ALLDAYEVENT:FALSE
SUMMARY:Chamber Coffee - July 2026
DESCRIPTION:You're Invited! Join us for the Dickson County Chamber's Coffee\, hosted by Dickson Funeral Home. July 23\, 2026 from 8:00 9:00 AM at Dickson Funeral Home\, 209 E. College St. in Dickson. Come mix\, mingle\, and make valuable connections with fellow chamber members & local professionals. Enjoy coffee\, great conversations\, a welcoming atmosphere\, and an opportunity to grow your network. We can't wait to see you there!
X-ALT-DESC;FMTTYPE=text/html:You&rsquo\;re Invited! Join us for the Dickson County Chamber&rsquo\;s Coffee\, hosted by Dickson Funeral Home. July 23\, 2026 from 8:00&ndash\;9:00 AM at Dickson Funeral Home\, 209 E. College St. in Dickson. Come mix\, mingle\, and make valuable connections with fellow chamber members &amp\; local professionals. Enjoy coffee\, great conversations\, a welcoming atmosphere\, and an opportunity to grow your network. We can&rsquo\;t wait to see you there!
LOCATION:Dickson Funeral Home 209 E. College St. Dickson\, Tn. 37055
UID:e.2392.3020
SEQUENCE:3
DTSTAMP:20260425T165715Z
URL:https://business.dicksoncountychamber.com/events/details/chamber-coffee-july-2026-3020
END:VEVENT

END:VCALENDAR
