BEGIN:VCALENDAR
VERSION:2.0
PRODID:-//ChamberMaster//Event Calendar 2.0//EN
METHOD:PUBLISH
X-PUBLISHED-TTL:P3D
REFRESH-INTERVAL:P3D
CALSCALE:GREGORIAN
BEGIN:VEVENT
DTSTART:20250315T170000Z
DTEND:20250315T230000Z
X-MICROSOFT-CDO-ALLDAYEVENT:FALSE
SUMMARY:2nd Annual Luck of the Irish Festival
DESCRIPTION:GET READY for the 2nd Annual Luck of the Irish festival! Mark your calendars because the 2nd annual luck of the Irish festival is back and bigger than ever! Join us on March 15th from 12-6pm at the Dickson Country fairgrounds for a day filled with fun \,food\, festive entertainment. And the best part? FREE ADMISSION ND FREE PARKING!!!! WHAT TO EXPECT: 100+ Vendors Food Trucks  Music Helicopter Rides Inflatables Face Painting https://www.facebook.com/share/1AFhthQisZ/
X-ALT-DESC;FMTTYPE=text/html:GET READY for the 2nd Annual Luck of the Irish festival! Mark your calendars because the 2nd annual luck of the Irish festival is back and bigger than ever! Join us on March 15th from 12-6pm at the Dickson Country fairgrounds for a day filled with fun \,food\, festive entertainment. And the best part? FREE ADMISSION ND FREE PARKING!!!! WHAT TO EXPECT: 100+ Vendors Food Trucks&nbsp\; Music Helicopter Rides Inflatables Face Painting https://www.facebook.com/share/1AFhthQisZ/
LOCATION:Dickson County Fairgrounds
UID:e.2392.2869
SEQUENCE:3
DTSTAMP:20260420T102220Z
URL:https://business.dicksoncountychamber.com/events/details/2nd-annual-luck-of-the-irish-festival-2869
END:VEVENT

END:VCALENDAR
