BEGIN:VCALENDAR
VERSION:2.0
PRODID:-//ChamberMaster//Event Calendar 2.0//EN
METHOD:PUBLISH
X-PUBLISHED-TTL:P3D
REFRESH-INTERVAL:P3D
CALSCALE:GREGORIAN
BEGIN:VEVENT
DTSTART:20241218T190000Z
DTEND:20241218T230000Z
X-MICROSOFT-CDO-ALLDAYEVENT:FALSE
SUMMARY:Blood Assurance Mobile Blood Drive
DESCRIPTION:All blood donors will receive an emailed $25 e gift card for donating. O Negative Double Red Donors will receive a $40 gift card.
X-ALT-DESC;FMTTYPE=text/html:All blood donors will receive an emailed $25 e gift card for donating. O Negative Double Red Donors will receive a $40 gift card.
LOCATION:Dickson County Government Building 303 Henslee Drive Dickson\, TN 37055
UID:e.2392.2836
SEQUENCE:3
DTSTAMP:20260421T095733Z
URL:http://business.dicksoncountychamber.com/events/details/blood-assurance-mobile-blood-drive-2836
END:VEVENT

END:VCALENDAR
