BEGIN:VCALENDAR
VERSION:2.0
PRODID:-//ChamberMaster//Event Calendar 2.0//EN
METHOD:PUBLISH
X-PUBLISHED-TTL:P3D
REFRESH-INTERVAL:P3D
CALSCALE:GREGORIAN
BEGIN:VEVENT
DTSTART:20241019T223000Z
DTEND:20241020T030000Z
X-MICROSOFT-CDO-ALLDAYEVENT:FALSE
SUMMARY:1940's Gala
DESCRIPTION:This event will be a unique and nostalgic evening to celebrate and raise funds for the Middle Tennessee Veterans Coalition\, helping us to continue our mission of supporting veterans in our community.
X-ALT-DESC;FMTTYPE=text/html:This event will be a unique and nostalgic evening to celebrate and raise funds for the Middle Tennessee Veterans Coalition\, helping us to continue our mission of supporting veterans in our community.
LOCATION:Events on Main 105 S. Main Dickson\, TN
UID:e.2392.2809
SEQUENCE:3
DTSTAMP:20260419T163755Z
URL:http://business.dicksoncountychamber.com/events/details/1940-s-gala-2809
END:VEVENT

END:VCALENDAR
